BEGIN:VCALENDAR
VERSION:2.0
PRODID:-//Hoodoo Ski Area - ECPv6.13.2.1//NONSGML v1.0//EN
CALSCALE:GREGORIAN
METHOD:PUBLISH
X-WR-CALNAME:Hoodoo Ski Area
X-ORIGINAL-URL:https://hoodoo.com
X-WR-CALDESC:Events for Hoodoo Ski Area
REFRESH-INTERVAL;VALUE=DURATION:PT1H
X-Robots-Tag:noindex
X-PUBLISHED-TTL:PT1H
BEGIN:VTIMEZONE
TZID:America/Los_Angeles
BEGIN:DAYLIGHT
TZOFFSETFROM:-0800
TZOFFSETTO:-0700
TZNAME:PDT
DTSTART:20210314T100000
END:DAYLIGHT
BEGIN:STANDARD
TZOFFSETFROM:-0700
TZOFFSETTO:-0800
TZNAME:PST
DTSTART:20211107T090000
END:STANDARD
END:VTIMEZONE
BEGIN:VEVENT
DTSTART;VALUE=DATE:20210418
DTEND;VALUE=DATE:20210419
DTSTAMP:20260425T193400
CREATED:20210412T210808Z
LAST-MODIFIED:20210412T210808Z
UID:5958-1618704000-1618790399@hoodoo.com
SUMMARY:End of 2020-21 season
DESCRIPTION:April 18\, 2021\, is the final day of the 2020-21 season. See you next season!
URL:https://hoodoo.com/event/end-of-2020-21-season/
LOCATION:27400 Big Lake Rd\, Sisters\, OR\, 97759\, United States
END:VEVENT
BEGIN:VEVENT
DTSTART;VALUE=DATE:20210418
DTEND;VALUE=DATE:20210419
DTSTAMP:20260425T193400
CREATED:20210412T210808Z
LAST-MODIFIED:20210412T210808Z
UID:7326-1618704000-1618790399@hoodoo.com
SUMMARY:End of 2020-21 season
DESCRIPTION:April 18\, 2021\, is the final day of the 2020-21 season. See you next season!
URL:https://hoodoo.com/event/end-of-2020-21-season-2/
LOCATION:27400 Big Lake Rd\, Sisters\, OR\, 97759\, United States
END:VEVENT
BEGIN:VEVENT
DTSTART;VALUE=DATE:20210418
DTEND;VALUE=DATE:20210419
DTSTAMP:20260425T193400
CREATED:20210412T210808Z
LAST-MODIFIED:20210412T210808Z
UID:7680-1618704000-1618790399@hoodoo.com
SUMMARY:End of 2020-21 season
DESCRIPTION:April 18\, 2021\, is the final day of the 2020-21 season. See you next season!
URL:https://hoodoo.com/event/end-of-2020-21-season-3/
LOCATION:27400 Big Lake Rd\, Sisters\, OR\, 97759\, United States
END:VEVENT
END:VCALENDAR