BEGIN:VCALENDAR
VERSION:2.0
PRODID:-//Hoodoo Ski Area - ECPv6.13.2.1//NONSGML v1.0//EN
CALSCALE:GREGORIAN
METHOD:PUBLISH
X-ORIGINAL-URL:https://hoodoo.com
X-WR-CALDESC:Events for Hoodoo Ski Area
REFRESH-INTERVAL;VALUE=DURATION:PT1H
X-Robots-Tag:noindex
X-PUBLISHED-TTL:PT1H
BEGIN:VTIMEZONE
TZID:America/Los_Angeles
BEGIN:DAYLIGHT
TZOFFSETFROM:-0800
TZOFFSETTO:-0700
TZNAME:PDT
DTSTART:20260308T100000
END:DAYLIGHT
BEGIN:STANDARD
TZOFFSETFROM:-0700
TZOFFSETTO:-0800
TZNAME:PST
DTSTART:20261101T090000
END:STANDARD
END:VTIMEZONE
BEGIN:VEVENT
DTSTART;TZID=America/Los_Angeles:20260111T090000
DTEND;TZID=America/Los_Angeles:20260111T160000
DTSTAMP:20260422T140454
CREATED:20260108T014629Z
LAST-MODIFIED:20260421T165126Z
UID:10758-1768122000-1768147200@hoodoo.com
SUMMARY:OPEN
DESCRIPTION:Hoodoo is open 9 am – 4 pm
URL:https://hoodoo.com/event/open-17/2026-01-11/
END:VEVENT
BEGIN:VEVENT
DTSTART;VALUE=DATE:20260112
DTEND;VALUE=DATE:20260113
DTSTAMP:20260422T140454
CREATED:20251230T003252Z
LAST-MODIFIED:20260303T174428Z
UID:10728-1768176000-1768262399@hoodoo.com
SUMMARY:CLOSED
DESCRIPTION:Hoodoo is closed on this date.
URL:https://hoodoo.com/event/closed-23/2026-01-12/
END:VEVENT
BEGIN:VEVENT
DTSTART;VALUE=DATE:20260113
DTEND;VALUE=DATE:20260114
DTSTAMP:20260422T140454
CREATED:20251230T003252Z
LAST-MODIFIED:20260303T174431Z
UID:10729-1768262400-1768348799@hoodoo.com
SUMMARY:CLOSED
DESCRIPTION:Hoodoo is closed on this date.
URL:https://hoodoo.com/event/closed-23/2026-01-13/
END:VEVENT
BEGIN:VEVENT
DTSTART;VALUE=DATE:20260114
DTEND;VALUE=DATE:20260115
DTSTAMP:20260422T140454
CREATED:20260112T060457Z
LAST-MODIFIED:20260303T174309Z
UID:10806-1768348800-1768435199@hoodoo.com
SUMMARY:Onesie Wednesday
DESCRIPTION:Wear a Onesie on Wednesdays at Hoodoo and your lift ticket is only $30.
URL:https://hoodoo.com/event/onesie-wednesday-2/2026-01-14/
ATTACH;FMTTYPE=image/png:https://hoodoo.com/wp-content/uploads/2026/01/1080x1080-ONSIE-Wednesday-25-26.png
END:VEVENT
BEGIN:VEVENT
DTSTART;TZID=America/Los_Angeles:20260114T090000
DTEND;TZID=America/Los_Angeles:20260114T210000
DTSTAMP:20260422T140454
CREATED:20260108T014400Z
LAST-MODIFIED:20260303T174352Z
UID:10686-1768381200-1768424400@hoodoo.com
SUMMARY:OPEN
DESCRIPTION:Hoodoo is open 9 am – 9 pm.
URL:https://hoodoo.com/event/open-16/2026-01-14/
END:VEVENT
BEGIN:VEVENT
DTSTART;VALUE=DATE:20260115
DTEND;VALUE=DATE:20260116
DTSTAMP:20260422T140454
CREATED:20260109T070143Z
LAST-MODIFIED:20260109T070143Z
UID:10819-1768435200-1768521599@hoodoo.com
SUMMARY:Thrifty Thursday\, presented by First Interstate Bank
DESCRIPTION:Ski and Ride all day for only $39 on Thrifty Thursday\, presented by First Interstate Bank.
URL:https://hoodoo.com/event/thrifty-thursday-2026/2026-01-15/
ATTACH;FMTTYPE=image/jpeg:https://hoodoo.com/wp-content/uploads/2026/01/1080x1080-Thrifty-Thurs-25-26.jpg
END:VEVENT
BEGIN:VEVENT
DTSTART;TZID=America/Los_Angeles:20260115T090000
DTEND;TZID=America/Los_Angeles:20260115T210000
DTSTAMP:20260422T140454
CREATED:20260108T014400Z
LAST-MODIFIED:20260303T174352Z
UID:10687-1768467600-1768510800@hoodoo.com
SUMMARY:OPEN
DESCRIPTION:Hoodoo is open 9 am – 9 pm.
URL:https://hoodoo.com/event/open-16/2026-01-15/
END:VEVENT
BEGIN:VEVENT
DTSTART;TZID=America/Los_Angeles:20260116T090000
DTEND;TZID=America/Los_Angeles:20260116T210000
DTSTAMP:20260422T140454
CREATED:20260108T014400Z
LAST-MODIFIED:20260303T174352Z
UID:10688-1768554000-1768597200@hoodoo.com
SUMMARY:OPEN
DESCRIPTION:Hoodoo is open 9 am – 9 pm.
URL:https://hoodoo.com/event/open-16/2026-01-16/
END:VEVENT
BEGIN:VEVENT
DTSTART;VALUE=DATE:20260117
DTEND;VALUE=DATE:20260120
DTSTAMP:20260422T140454
CREATED:20260109T065932Z
LAST-MODIFIED:20260109T065953Z
UID:10790-1768608000-1768867199@hoodoo.com
SUMMARY:Presidents Day Weekend
DESCRIPTION:Peak prices apply on Presidents Day Weekend.
URL:https://hoodoo.com/event/presidents-day-weekend/
END:VEVENT
BEGIN:VEVENT
DTSTART;TZID=America/Los_Angeles:20260117T090000
DTEND;TZID=America/Los_Angeles:20260117T210000
DTSTAMP:20260422T140454
CREATED:20260108T014400Z
LAST-MODIFIED:20260303T174352Z
UID:10689-1768640400-1768683600@hoodoo.com
SUMMARY:OPEN
DESCRIPTION:Hoodoo is open 9 am – 9 pm.
URL:https://hoodoo.com/event/open-16/2026-01-17/
END:VEVENT
END:VCALENDAR