BEGIN:VCALENDAR
VERSION:2.0
PRODID:-//Hoodoo Ski Area - ECPv6.13.2.1//NONSGML v1.0//EN
CALSCALE:GREGORIAN
METHOD:PUBLISH
X-ORIGINAL-URL:https://hoodoo.com
X-WR-CALDESC:Events for Hoodoo Ski Area
REFRESH-INTERVAL;VALUE=DURATION:PT1H
X-Robots-Tag:noindex
X-PUBLISHED-TTL:PT1H
BEGIN:VTIMEZONE
TZID:America/Los_Angeles
BEGIN:DAYLIGHT
TZOFFSETFROM:-0800
TZOFFSETTO:-0700
TZNAME:PDT
DTSTART:20250309T100000
END:DAYLIGHT
BEGIN:STANDARD
TZOFFSETFROM:-0700
TZOFFSETTO:-0800
TZNAME:PST
DTSTART:20251102T090000
END:STANDARD
BEGIN:DAYLIGHT
TZOFFSETFROM:-0800
TZOFFSETTO:-0700
TZNAME:PDT
DTSTART:20260308T100000
END:DAYLIGHT
BEGIN:STANDARD
TZOFFSETFROM:-0700
TZOFFSETTO:-0800
TZNAME:PST
DTSTART:20261101T090000
END:STANDARD
END:VTIMEZONE
BEGIN:VEVENT
DTSTART;VALUE=DATE:20251229
DTEND;VALUE=DATE:20251230
DTSTAMP:20260422T222334
CREATED:20251230T003252Z
LAST-MODIFIED:20260303T174426Z
UID:10651-1766966400-1767052799@hoodoo.com
SUMMARY:CLOSED
DESCRIPTION:Hoodoo is closed on this date.
URL:https://hoodoo.com/event/closed-23/2025-12-29/
END:VEVENT
BEGIN:VEVENT
DTSTART;VALUE=DATE:20251230
DTEND;VALUE=DATE:20251231
DTSTAMP:20260422T222334
CREATED:20251230T003252Z
LAST-MODIFIED:20260303T174426Z
UID:10652-1767052800-1767139199@hoodoo.com
SUMMARY:CLOSED
DESCRIPTION:Hoodoo is closed on this date.
URL:https://hoodoo.com/event/closed-23/2025-12-30/
END:VEVENT
BEGIN:VEVENT
DTSTART;TZID=America/Los_Angeles:20251230T180000
DTEND;TZID=America/Los_Angeles:20251230T200000
DTSTAMP:20260422T222334
CREATED:20251106T165813Z
LAST-MODIFIED:20251106T170133Z
UID:10549-1767117600-1767124800@hoodoo.com
SUMMARY:Wintervention - Eugene
DESCRIPTION:Get snooooow ready…Hoodoo’s about to have a Wintervention! It’s the deepest Snow Series Giveaway in the Northwest and it’s coming to a venue near you!!! We’re dumpin’ over 100K in prizes this season…lift tickets\, skis\, boards\, gear\, snow and more.
URL:https://hoodoo.com/event/wintervention-eugene/2025-12-30/
LOCATION:PL:AY\, 232 W 5th Ave\,\, Eugene\, 97401\, United States
ATTACH;FMTTYPE=image/png:https://hoodoo.com/wp-content/uploads/2025/11/1080x1080-Wintervention-25-26_Play.png
END:VEVENT
BEGIN:VEVENT
DTSTART;TZID=America/Los_Angeles:20251230T180000
DTEND;TZID=America/Los_Angeles:20251230T200000
DTSTAMP:20260422T222334
CREATED:20251106T172349Z
LAST-MODIFIED:20251106T172349Z
UID:10574-1767117600-1767124800@hoodoo.com
SUMMARY:Wintervention - Bend
DESCRIPTION:Get snooooow ready…Hoodoo’s about to have a Wintervention! It’s the deepest Snow Series Giveaway in the Northwest and it’s coming to a venue near you!!! We’re dumpin’ over 100K in prizes this season…lift tickets\, skis\, boards\, gear\, snow and more.
URL:https://hoodoo.com/event/wintervention-bend/2025-12-30/
LOCATION:Sunriver Brewing – Eastside Pub\, 1500 NE Cushing Dr\, Bend\, 97701\, United States
ATTACH;FMTTYPE=image/png:https://hoodoo.com/wp-content/uploads/2025/11/1080x1080-Wintervention-25-26_Sunriver.png
END:VEVENT
BEGIN:VEVENT
DTSTART;VALUE=DATE:20251231
DTEND;VALUE=DATE:20260101
DTSTAMP:20260422T222334
CREATED:20251205T164559Z
LAST-MODIFIED:20251230T200117Z
UID:10612-1767139200-1767225599@hoodoo.com
SUMMARY:New Years Celebration\, presented by Bigfoot & Pepsi
DESCRIPTION:Hoodoo will be open for our annual New Years Celebration\, presented by Bigfoot Beverages & Pepsi. \nThe Easy Rider lift will run 4-9 pm. No other lifts will run and uphill travel is not allowed. The lodge will be open until midnight\, with live music by Leroy and the Sidekicks\, plus lots of food and beverage specials. The annual fireworks show will start around 9:20 pm. \nNote: The parking lot will not open until 3:30 pm. Please do not arrive early. \nSeason passes will be available for purchase and pickup. Hoodoo’s Powder Shoppe and Rental Shop will be both be open for all your gear and season rental needs. \nJoin us for a family-friendly atmosphere for New Year’s Eve. Non-skiing guests are welcome to come hang out in the lodge and enjoy the free live music. \nHoodoo will be closed Jan. 1 and onward until more snow falls.
URL:https://hoodoo.com/event/nye-2025/
LOCATION:Hoodoo Ski Area\, 27400 Big Lake Rd\, Sisters\, OR\, 97759\, United States
ATTACH;FMTTYPE=image/png:https://hoodoo.com/wp-content/uploads/2025/12/1080x1080-25-26-Hoodoo-NYE-2.png
GEO:44.408755;-121.871381
X-APPLE-STRUCTURED-LOCATION;VALUE=URI;X-ADDRESS=Hoodoo Ski Area 27400 Big Lake Rd Sisters OR 97759 United States;X-APPLE-RADIUS=500;X-TITLE=27400 Big Lake Rd:geo:-121.871381,44.408755
END:VEVENT
BEGIN:VEVENT
DTSTART;TZID=America/Los_Angeles:20251231T153000
DTEND;TZID=America/Los_Angeles:20251231T235900
DTSTAMP:20260422T222334
CREATED:20251230T003553Z
LAST-MODIFIED:20251230T003553Z
UID:10659-1767195000-1767225540@hoodoo.com
SUMMARY:OPEN
DESCRIPTION:Hoodoo will be open for our annual New Years Celebration\, presented by Bigfoot Beverages & Pepsi. \nThe Easy Rider lift will run 4-9 pm. No other lifts will run and uphill travel is not allowed. The lodge will be open 3:30 pm – midnight\, with live music by Leroy and the Sidekicks\, plus lots of food and beverage specials. \nJoin us for a family-friendly atmosphere for New Year’s Eve. Non-skiing guests are welcome to come hang out in the lodge and enjoy the free live music. \nHoodoo will be closed Jan. 1 and onward until more snow falls.
URL:https://hoodoo.com/event/open-15/
END:VEVENT
BEGIN:VEVENT
DTSTART;VALUE=DATE:20260101
DTEND;VALUE=DATE:20260102
DTSTAMP:20260422T222334
CREATED:20251230T003252Z
LAST-MODIFIED:20260303T174426Z
UID:10653-1767225600-1767311999@hoodoo.com
SUMMARY:CLOSED
DESCRIPTION:Hoodoo is closed on this date.
URL:https://hoodoo.com/event/closed-23/2026-01-01/
END:VEVENT
BEGIN:VEVENT
DTSTART;VALUE=DATE:20260102
DTEND;VALUE=DATE:20260103
DTSTAMP:20260422T222334
CREATED:20251230T003252Z
LAST-MODIFIED:20260303T174426Z
UID:10654-1767312000-1767398399@hoodoo.com
SUMMARY:CLOSED
DESCRIPTION:Hoodoo is closed on this date.
URL:https://hoodoo.com/event/closed-23/2026-01-02/
END:VEVENT
BEGIN:VEVENT
DTSTART;VALUE=DATE:20260103
DTEND;VALUE=DATE:20260104
DTSTAMP:20260422T222334
CREATED:20251230T003252Z
LAST-MODIFIED:20260303T174427Z
UID:10655-1767398400-1767484799@hoodoo.com
SUMMARY:CLOSED
DESCRIPTION:Hoodoo is closed on this date.
URL:https://hoodoo.com/event/closed-23/2026-01-03/
END:VEVENT
END:VCALENDAR