BEGIN:VCALENDAR
VERSION:2.0
PRODID:-//Hoodoo Ski Area - ECPv6.13.2.1//NONSGML v1.0//EN
CALSCALE:GREGORIAN
METHOD:PUBLISH
X-WR-CALNAME:Hoodoo Ski Area
X-ORIGINAL-URL:https://hoodoo.com
X-WR-CALDESC:Events for Hoodoo Ski Area
REFRESH-INTERVAL;VALUE=DURATION:PT1H
X-Robots-Tag:noindex
X-PUBLISHED-TTL:PT1H
BEGIN:VTIMEZONE
TZID:America/Los_Angeles
BEGIN:DAYLIGHT
TZOFFSETFROM:-0800
TZOFFSETTO:-0700
TZNAME:PDT
DTSTART:20230312T100000
END:DAYLIGHT
BEGIN:STANDARD
TZOFFSETFROM:-0700
TZOFFSETTO:-0800
TZNAME:PST
DTSTART:20231105T090000
END:STANDARD
END:VTIMEZONE
BEGIN:VEVENT
DTSTART;VALUE=DATE:20230424
DTEND;VALUE=DATE:20231124
DTSTAMP:20260422T100042
CREATED:20230423T071857Z
LAST-MODIFIED:20230423T071857Z
UID:9081-1682294400-1700783999@hoodoo.com
SUMMARY:CLOSED
DESCRIPTION:Hoodoo is closed until the 2023-24 season starts in late 2023. Check back for updates!
URL:https://hoodoo.com/event/closed-20/
LOCATION:27400 Big Lake Rd\, Sisters\, OR\, 97759\, United States
GEO:44.408755;-121.871381
X-APPLE-STRUCTURED-LOCATION;VALUE=URI;X-ADDRESS=27400 Big Lake Rd Sisters OR 97759 United States;X-APPLE-RADIUS=500;X-TITLE=27400 Big Lake Rd:geo:-121.871381,44.408755
END:VEVENT
BEGIN:VEVENT
DTSTART;TZID=America/Los_Angeles:20231121T180000
DTEND;TZID=America/Los_Angeles:20231121T200000
DTSTAMP:20260422T100042
CREATED:20231005T225422Z
LAST-MODIFIED:20240126T050234Z
UID:9159-1700589600-1700596800@hoodoo.com
SUMMARY:Wintervention - Eugene/Springfield\, Oregon
DESCRIPTION:Hoodoo’s Wintervention is back! Pacific Northwest’s Biggest Snow Series Giveaway presented is coming to a venue near you. Sisters\, Redmond\, Bend\, Eugene\, Albany\, and now Lebanon get ready!!! Hoodoo’s dumpin’ another 50 thousand in prizes including lift tickets\, gear\, skis\, boards and more. \nPlay silly games\, compete in SnOlympics\, take a whack at Winter Trivia and throw down some Snowballers Bingo with us. Help raise scholarship funds for SNOWDAYS! Plus sign up for your chance to win your very own pass to the Snowlab where you can design\, build and shred your very own skis/board. Cash & prizes & fun for all ages. \nHosted by Harold the Hodag and his friends Yeti and Sas. It’s free for all ages and a ton of fun for the whole family!
URL:https://hoodoo.com/event/wintervention-eugene-or/2023-11-21/
LOCATION:PublicHouse\, 418 A STREET\, Springfield\, 97477\, United States
ATTACH;FMTTYPE=image/jpeg:https://hoodoo.com/wp-content/uploads/2023/10/1080x1080-Wintervention-23-24-Public-House.jpg
END:VEVENT
BEGIN:VEVENT
DTSTART;VALUE=DATE:20231124
DTEND;VALUE=DATE:20231125
DTSTAMP:20260422T100042
CREATED:20231005T222444Z
LAST-MODIFIED:20231005T222444Z
UID:9134-1700784000-1700870399@hoodoo.com
SUMMARY:Sisters Tree Lighting
DESCRIPTION:
URL:https://hoodoo.com/event/sisters-tree-lighting-2023/
LOCATION:27400 Big Lake Rd\, Sisters\, OR\, 97759\, United States
GEO:44.408755;-121.871381
X-APPLE-STRUCTURED-LOCATION;VALUE=URI;X-ADDRESS=27400 Big Lake Rd Sisters OR 97759 United States;X-APPLE-RADIUS=500;X-TITLE=27400 Big Lake Rd:geo:-121.871381,44.408755
END:VEVENT
BEGIN:VEVENT
DTSTART;VALUE=DATE:20231125
DTEND;VALUE=DATE:20231126
DTSTAMP:20260422T100042
CREATED:20231005T222545Z
LAST-MODIFIED:20231005T222552Z
UID:9135-1700870400-1700956799@hoodoo.com
SUMMARY:Warren Miller's "All Time" Film Tour - Corvallis\, Oregon
DESCRIPTION:
URL:https://hoodoo.com/event/warren-millers-all-time-film-tour-corvallis-oregon/
LOCATION:The Whiteside Theatre\, 361 SW Madison Ave\, Corvallis\, OR\, 97333\, United States
END:VEVENT
BEGIN:VEVENT
DTSTART;VALUE=DATE:20231125
DTEND;VALUE=DATE:20231126
DTSTAMP:20260422T100042
CREATED:20231005T222734Z
LAST-MODIFIED:20231005T222734Z
UID:9138-1700870400-1700956799@hoodoo.com
SUMMARY:Sisters Christmas Parade
DESCRIPTION:
URL:https://hoodoo.com/event/sisters-christmas-parade-2023/
LOCATION:Sisters\, Oregon\, Sisters\, OR\, 97759\, United States
END:VEVENT
END:VCALENDAR