BEGIN:VCALENDAR
VERSION:2.0
PRODID:-//Hoodoo Ski Area - ECPv6.13.2.1//NONSGML v1.0//EN
CALSCALE:GREGORIAN
METHOD:PUBLISH
X-WR-CALNAME:Hoodoo Ski Area
X-ORIGINAL-URL:https://hoodoo.com
X-WR-CALDESC:Events for Hoodoo Ski Area
REFRESH-INTERVAL;VALUE=DURATION:PT1H
X-Robots-Tag:noindex
X-PUBLISHED-TTL:PT1H
BEGIN:VTIMEZONE
TZID:America/Los_Angeles
BEGIN:DAYLIGHT
TZOFFSETFROM:-0800
TZOFFSETTO:-0700
TZNAME:PDT
DTSTART:20220313T100000
END:DAYLIGHT
BEGIN:STANDARD
TZOFFSETFROM:-0700
TZOFFSETTO:-0800
TZNAME:PST
DTSTART:20221106T090000
END:STANDARD
END:VTIMEZONE
BEGIN:VEVENT
DTSTART;TZID=America/Los_Angeles:20221129T180000
DTEND;TZID=America/Los_Angeles:20221129T200000
DTSTAMP:20260421T173148
CREATED:20221123T235340Z
LAST-MODIFIED:20221219T085708Z
UID:8474-1669744800-1669752000@hoodoo.com
SUMMARY:Wintervention - The Bier Stein - Eugene
DESCRIPTION:Join Hoodoo and The Bier Stein for a flurry of fun and more than $50\,000 in giveaways this season. \n\nWin lift tickets\, lodging\, gear\, skis\, boards and more. Free for all ages. Presented by Tactics and Blackstrap.
URL:https://hoodoo.com/event/wintervention-the-bier-stein-eugene/2022-11-29/
LOCATION:The Bier Stein\, 1591 Willamette St\, Eugene\, OR\, 97401\, United States
ATTACH;FMTTYPE=image/png:https://hoodoo.com/wp-content/uploads/2022/11/Wintervention_1200x628_Bierstein.png
GEO:44.0423843;-123.0923008
X-APPLE-STRUCTURED-LOCATION;VALUE=URI;X-ADDRESS=The Bier Stein 1591 Willamette St Eugene OR 97401 United States;X-APPLE-RADIUS=500;X-TITLE=1591 Willamette St:geo:-123.0923008,44.0423843
END:VEVENT
BEGIN:VEVENT
DTSTART;TZID=America/Los_Angeles:20221129T180000
DTEND;TZID=America/Los_Angeles:20221129T200000
DTSTAMP:20260421T173148
CREATED:20221129T091844Z
LAST-MODIFIED:20221219T085407Z
UID:8492-1669744800-1669752000@hoodoo.com
SUMMARY:Wintervention – AVID Cider – Bend
DESCRIPTION:Join Hoodoo and AVID Cider Co. for a flurry of fun and a chance to win more than $50\,000 in giveaways this season.\n\n\nWin lift tickets\, lodging\, gear\, skis\, boards and more!  Free for all ages. Presented by Tactics and Blackstrap.\n\nThanks to all our WinterVention partners:\n\nAVID Cider Company\nAblis CBD Beverages and Supplements\nBlack Butte Ranch – There is a place\nFivePine\nDeviation Ski & Snowboard Works\nSeven Peaks Hard Seltzer\nBigfoot Beverages\nPepsi\nBlackStrap\nBNF Kombucha and Jun\nThe Brown Owl\nLeft Coast Burger Company\nLuckey’s Woodsman Off-Grid Provisions\nCascade Spirits Tasting Room\nCoEnergy Propane\nFirst Interstate Bank\nForth Distilled Goods\nGeneral Duffy’s Waterhole\nTactics\nTeam Kia of Bend\nThe Bier Stein\nThree Creeks Brewing Company
URL:https://hoodoo.com/event/wintervention-avid-cider-bend/2022-11-29/
LOCATION:Avid Cider Co.\, 550 SW Industrial Way\, Bend\, OR\, 97702\, United States
ATTACH;FMTTYPE=image/png:https://hoodoo.com/wp-content/uploads/2022/11/Wintervention_1200x628_Avid-1.png
END:VEVENT
BEGIN:VEVENT
DTSTART;TZID=America/Los_Angeles:20221201T190000
DTEND;TZID=America/Los_Angeles:20221201T210000
DTSTAMP:20260421T173148
CREATED:20221123T014351Z
LAST-MODIFIED:20221130T155918Z
UID:8468-1669921200-1669928400@hoodoo.com
SUMMARY:"Daymaker" by Warren Miller Entertainment - The Whiteside Theatre\, Corvallis
DESCRIPTION:A killer storm cycle in the Monashees. Adaptive backcountry riding like you’ve never seen before. The ultimate grass skiing run. Alaska (twice). Come along for the biggest days with the 73rd annual Warren Miller film\, Daymaker.\nPresented by Hoodoo & Peak Sports NW. \nTickets at warrenmiller.com/events/whiteside-theatre
URL:https://hoodoo.com/event/daymaker-by-warren-miller-entertainment-corvallis/
LOCATION:The Whiteside Theatre\, 361 SW Madison Ave\, Corvallis\, OR\, 97333\, United States
END:VEVENT
BEGIN:VEVENT
DTSTART;TZID=America/Los_Angeles:20221203T090000
DTEND;TZID=America/Los_Angeles:20221203T160000
DTSTAMP:20260421T173148
CREATED:20221201T221733Z
LAST-MODIFIED:20221201T221733Z
UID:8517-1670058000-1670083200@hoodoo.com
SUMMARY:Opening Weekend!
DESCRIPTION:Hoodoo Ski Area will open the 2022-23 season on Dec. 3-4\, 2022. Lifts will be open 9 am – 4 pm.  please check our Mountain Status page for updates. See you on the slopes!
URL:https://hoodoo.com/event/opening-weekend/2022-12-03/
LOCATION:Hoodoo Ski Area\, 27400 Big Lake Rd\, Sisters\, OR\, 97759\, United States
GEO:44.408755;-121.871381
X-APPLE-STRUCTURED-LOCATION;VALUE=URI;X-ADDRESS=Hoodoo Ski Area 27400 Big Lake Rd Sisters OR 97759 United States;X-APPLE-RADIUS=500;X-TITLE=27400 Big Lake Rd:geo:-121.871381,44.408755
END:VEVENT
END:VCALENDAR