BEGIN:VCALENDAR
VERSION:2.0
PRODID:-//Hoodoo Ski Area - ECPv6.13.2.1//NONSGML v1.0//EN
CALSCALE:GREGORIAN
METHOD:PUBLISH
X-ORIGINAL-URL:https://hoodoo.com
X-WR-CALDESC:Events for Hoodoo Ski Area
REFRESH-INTERVAL;VALUE=DURATION:PT1H
X-Robots-Tag:noindex
X-PUBLISHED-TTL:PT1H
BEGIN:VTIMEZONE
TZID:America/Los_Angeles
BEGIN:DAYLIGHT
TZOFFSETFROM:-0800
TZOFFSETTO:-0700
TZNAME:PDT
DTSTART:20210314T100000
END:DAYLIGHT
BEGIN:STANDARD
TZOFFSETFROM:-0700
TZOFFSETTO:-0800
TZNAME:PST
DTSTART:20211107T090000
END:STANDARD
END:VTIMEZONE
BEGIN:VEVENT
DTSTART;VALUE=DATE:20210213
DTEND;VALUE=DATE:20210216
DTSTAMP:20260423T224819
CREATED:20201211T183456Z
LAST-MODIFIED:20201211T183456Z
UID:5637-1613174400-1613433599@hoodoo.com
SUMMARY:Peak Pricing
DESCRIPTION:Peak Pricing rates apply on these days. Check out the Rates page for details.
URL:https://hoodoo.com/event/peak-pricing-3/
LOCATION:27400 Big Lake Rd\, Sisters\, OR\, 97759\, United States
END:VEVENT
BEGIN:VEVENT
DTSTART;VALUE=DATE:20210213
DTEND;VALUE=DATE:20210216
DTSTAMP:20260423T224819
CREATED:20201211T183456Z
LAST-MODIFIED:20201211T183456Z
UID:7146-1613174400-1613433599@hoodoo.com
SUMMARY:Peak Pricing
DESCRIPTION:Peak Pricing rates apply on these days. Check out the Rates page for details.
URL:https://hoodoo.com/event/peak-pricing-3-2/
LOCATION:27400 Big Lake Rd\, Sisters\, OR\, 97759\, United States
END:VEVENT
BEGIN:VEVENT
DTSTART;VALUE=DATE:20210213
DTEND;VALUE=DATE:20210216
DTSTAMP:20260423T224819
CREATED:20201211T183456Z
LAST-MODIFIED:20201211T183456Z
UID:7475-1613174400-1613433599@hoodoo.com
SUMMARY:Peak Pricing
DESCRIPTION:Peak Pricing rates apply on these days. Check out the Rates page for details.
URL:https://hoodoo.com/event/peak-pricing-3-3/
LOCATION:27400 Big Lake Rd\, Sisters\, OR\, 97759\, United States
END:VEVENT
END:VCALENDAR