BEGIN:VCALENDAR
VERSION:2.0
PRODID:-//Hoodoo Ski Area - ECPv6.13.2.1//NONSGML v1.0//EN
CALSCALE:GREGORIAN
METHOD:PUBLISH
X-WR-CALNAME:Hoodoo Ski Area
X-ORIGINAL-URL:https://hoodoo.com
X-WR-CALDESC:Events for Hoodoo Ski Area
REFRESH-INTERVAL;VALUE=DURATION:PT1H
X-Robots-Tag:noindex
X-PUBLISHED-TTL:PT1H
BEGIN:VTIMEZONE
TZID:America/Los_Angeles
BEGIN:DAYLIGHT
TZOFFSETFROM:-0800
TZOFFSETTO:-0700
TZNAME:PDT
DTSTART:20260308T100000
END:DAYLIGHT
BEGIN:STANDARD
TZOFFSETFROM:-0700
TZOFFSETTO:-0800
TZNAME:PST
DTSTART:20261101T090000
END:STANDARD
END:VTIMEZONE
BEGIN:VEVENT
DTSTART;VALUE=DATE:20260321
DTEND;VALUE=DATE:20260322
DTSTAMP:20260421T170754
CREATED:20251205T165140Z
LAST-MODIFIED:20260227T163842Z
UID:10619-1774051200-1774137599@hoodoo.com
SUMMARY:Preview The New\, presented By Berg's Ski Shop
DESCRIPTION:A day to try out new gear on the mountain (demos are free\, lift ticket required to ski and ride on the mountain). We’ll have several retailers on site to answer questions\, give advice and help guests make decisions on the type of gear they want to test out on the slopes. \nHoodoo’s Preview The New has a new fit this season featuring the coolest digs in snow fashion. Join us as we ride it out on the runway with our winter models striking a pose…vogue. \n\nDon’t miss the first ever Snow Spring Fashion Show. For more details on becoming a Hoodoo model or show your fashion email tracy@hoodoo.com.
URL:https://hoodoo.com/event/preview-the-new-2026/
ATTACH;FMTTYPE=image/jpeg:https://hoodoo.com/wp-content/uploads/2026/02/Preview-The-New-1080x1080-1-scaled.jpg
END:VEVENT
BEGIN:VEVENT
DTSTART;TZID=America/Los_Angeles:20260321T090000
DTEND;TZID=America/Los_Angeles:20260321T210000
DTSTAMP:20260421T170754
CREATED:20260108T014400Z
LAST-MODIFIED:20260108T014400Z
UID:10777-1774083600-1774126800@hoodoo.com
SUMMARY:OPEN
DESCRIPTION:Hoodoo is open 9 am – 9 pm.
URL:https://hoodoo.com/event/open-16/2026-03-21/
END:VEVENT
END:VCALENDAR