BEGIN:VCALENDAR
VERSION:2.0
PRODID:-//Hoodoo Ski Area - ECPv6.13.2.1//NONSGML v1.0//EN
CALSCALE:GREGORIAN
METHOD:PUBLISH
X-ORIGINAL-URL:https://hoodoo.com
X-WR-CALDESC:Events for Hoodoo Ski Area
REFRESH-INTERVAL;VALUE=DURATION:PT1H
X-Robots-Tag:noindex
X-PUBLISHED-TTL:PT1H
BEGIN:VTIMEZONE
TZID:America/Los_Angeles
BEGIN:DAYLIGHT
TZOFFSETFROM:-0800
TZOFFSETTO:-0700
TZNAME:PDT
DTSTART:20260308T100000
END:DAYLIGHT
BEGIN:STANDARD
TZOFFSETFROM:-0700
TZOFFSETTO:-0800
TZNAME:PST
DTSTART:20261101T090000
END:STANDARD
END:VTIMEZONE
BEGIN:VEVENT
DTSTART;VALUE=DATE:20260314
DTEND;VALUE=DATE:20260315
DTSTAMP:20260423T070858
CREATED:20251205T165025Z
LAST-MODIFIED:20260313T173729Z
UID:10618-1773446400-1773532799@hoodoo.com
SUMMARY:Winter Carnival\, presented By CoEnergy Propane and Crux
DESCRIPTION:The premier event of the season and a day full of free activities. Winter Carnival has been a tradition at Hoodoo for 40+ years and includes a number of free events (no lift ticket required): ax throwing booth\, frisbee golf\, musical chairs\, a three-legged obstacle race\, a team tube race\, a hula-hoop contest\, a fly-athalon\, a pie eating contest\, a ski javelin throw\, an archery contest and bingo. The lifts are open 9 a.m. – 9 p.m. We’ll also have a special dinner menu\, the annual torchlight descent and professional fireworks on the mountain. \nPlease note that Dummy Downhill and the employee sculpture contest will not happen this year due to snow level.
URL:https://hoodoo.com/event/winter-carnival-presented-by-coenergy-propane-and-crux/
ATTACH;FMTTYPE=image/png:https://hoodoo.com/wp-content/uploads/2025/12/1080x1080-26-Winter-Carnival.png
END:VEVENT
BEGIN:VEVENT
DTSTART;TZID=America/Los_Angeles:20260314T090000
DTEND;TZID=America/Los_Angeles:20260314T210000
DTSTAMP:20260423T070858
CREATED:20260108T014400Z
LAST-MODIFIED:20260108T014400Z
UID:10721-1773478800-1773522000@hoodoo.com
SUMMARY:OPEN
DESCRIPTION:Hoodoo is open 9 am – 9 pm.
URL:https://hoodoo.com/event/open-16/2026-03-14/
END:VEVENT
END:VCALENDAR