BEGIN:VCALENDAR
VERSION:2.0
PRODID:-//Hoodoo Ski Area - ECPv6.13.2.1//NONSGML v1.0//EN
CALSCALE:GREGORIAN
METHOD:PUBLISH
X-WR-CALNAME:Hoodoo Ski Area
X-ORIGINAL-URL:https://hoodoo.com
X-WR-CALDESC:Events for Hoodoo Ski Area
REFRESH-INTERVAL;VALUE=DURATION:PT1H
X-Robots-Tag:noindex
X-PUBLISHED-TTL:PT1H
BEGIN:VTIMEZONE
TZID:America/Los_Angeles
BEGIN:DAYLIGHT
TZOFFSETFROM:-0800
TZOFFSETTO:-0700
TZNAME:PDT
DTSTART:20250309T100000
END:DAYLIGHT
BEGIN:STANDARD
TZOFFSETFROM:-0700
TZOFFSETTO:-0800
TZNAME:PST
DTSTART:20251102T090000
END:STANDARD
END:VTIMEZONE
BEGIN:VEVENT
DTSTART;VALUE=DATE:20250205
DTEND;VALUE=DATE:20250206
DTSTAMP:20260421T000422
CREATED:20241125T204206Z
LAST-MODIFIED:20250311T005757Z
UID:10168-1738713600-1738799999@hoodoo.com
SUMMARY:Onesie Wednesday
DESCRIPTION:Hoodoo is open 9 am – 4 pm. \nWear a onesie and your lift ticket is only $30! \nNote: Onesie Wednesday not available Dec. 25 and Jan. 1.
URL:https://hoodoo.com/event/onesie-wednesday/2025-02-05/
ATTACH;FMTTYPE=image/png:https://hoodoo.com/wp-content/uploads/2024/11/1080X1080-ONSIE-Wednesday-NO-TIME-Animation-24-25-01.png
END:VEVENT
BEGIN:VEVENT
DTSTART;TZID=America/Los_Angeles:20250205T090000
DTEND;TZID=America/Los_Angeles:20250205T210000
DTSTAMP:20260421T000422
CREATED:20241219T232935Z
LAST-MODIFIED:20250320T193613Z
UID:10060-1738746000-1738789200@hoodoo.com
SUMMARY:OPEN
DESCRIPTION:Hoodoo is open 9 am – 9 pm today.
URL:https://hoodoo.com/event/open-14/2025-02-05/
END:VEVENT
END:VCALENDAR