BEGIN:VCALENDAR
VERSION:2.0
PRODID:-//Hoodoo Ski Area - ECPv6.13.2.1//NONSGML v1.0//EN
CALSCALE:GREGORIAN
METHOD:PUBLISH
X-ORIGINAL-URL:https://hoodoo.com
X-WR-CALDESC:Events for Hoodoo Ski Area
REFRESH-INTERVAL;VALUE=DURATION:PT1H
X-Robots-Tag:noindex
X-PUBLISHED-TTL:PT1H
BEGIN:VTIMEZONE
TZID:America/Los_Angeles
BEGIN:DAYLIGHT
TZOFFSETFROM:-0800
TZOFFSETTO:-0700
TZNAME:PDT
DTSTART:20250309T100000
END:DAYLIGHT
BEGIN:STANDARD
TZOFFSETFROM:-0700
TZOFFSETTO:-0800
TZNAME:PST
DTSTART:20251102T090000
END:STANDARD
END:VTIMEZONE
BEGIN:VEVENT
DTSTART;TZID=America/Los_Angeles:20250102T090000
DTEND;TZID=America/Los_Angeles:20250102T210000
DTSTAMP:20260420T184929
CREATED:20241127T235319Z
LAST-MODIFIED:20241127T235319Z
UID:10106-1735808400-1735851600@hoodoo.com
SUMMARY:OPEN
DESCRIPTION:Hoodoo is open 9 am – 9 pm today.
URL:https://hoodoo.com/event/open-12/2025-01-02/
END:VEVENT
BEGIN:VEVENT
DTSTART;TZID=America/Los_Angeles:20250102T180000
DTEND;TZID=America/Los_Angeles:20250102T200000
DTSTAMP:20260420T184929
CREATED:20241021T212413Z
LAST-MODIFIED:20241023T195550Z
UID:9703-1735840800-1735848000@hoodoo.com
SUMMARY:Wintervention - Eugene - Beergarden
DESCRIPTION:It’s the biggest yard sale ever…The Northwest’s deepest snow series giveaway and it’s coming to a venue near you. Get geared up this season as we dump 100K in prizes including lift tickets\, gear\, skis\, boards and more. Free for all ages… and a ton of fun for the whole family! Compete in SNOlympics\, take a whack at Winter Trivia and throw down Snowballers Bingo with us to help raise scholarship funds for SNOWDAYS Foundation! Hosted by your favorite radio personalities\, Harold the Hodag and his friends Yeti and Sas. \nRadio sponsors: KDUK 104.7 FM\, KOOL 99.1 FM\, KPNW 93.7 & 1120 AM\, US 101 Country 101.5 FM
URL:https://hoodoo.com/event/wintervention-eugene-beergarden/2025-01-02/
LOCATION:Beergarden\, 777 West 6th Avenue\, Eugene\, OR\, 97402\, United States
ATTACH;FMTTYPE=image/png:https://hoodoo.com/wp-content/uploads/2024/10/1920x1005-Wintervention-24-25_Beergarden-1.png
END:VEVENT
BEGIN:VEVENT
DTSTART;TZID=America/Los_Angeles:20250102T180000
DTEND;TZID=America/Los_Angeles:20250102T200000
DTSTAMP:20260420T184929
CREATED:20241022T071300Z
LAST-MODIFIED:20241120T235025Z
UID:9730-1735840800-1735848000@hoodoo.com
SUMMARY:Wintervention - Redmond - Wild Ride Brewing
DESCRIPTION:It’s the biggest yard sale ever: The Northwest’s deepest snow series giveaway and it’s coming to a venue near you. Get geared up this season as we dump $100\,000 in n prizes including lift tickets\, gear\, skis\, boards and more. Free for all ages… and a ton of fun for the whole family! Compete in SNOlympics\, take a whack at Winter Trivia and throw down Snowballers Bingo with us to help raise scholarship funds for SNOWDAYS Foundation! Hosted by your favorite radio personalities\, Harold the Hodag and his friends Yeti and Sas. \nRadio sponsors: KRXF 92.9 FM\, KSJJ 102.9 FM\, POWER 94.1 FM\, The X 100.7 FM
URL:https://hoodoo.com/event/wintervention-redmond-wild-ride-brewing/2025-01-02/
LOCATION:Wild Ride Brewing\, 332 SW 5th St\, Redmond\, 97756\, United States
ATTACH;FMTTYPE=image/png:https://hoodoo.com/wp-content/uploads/2024/10/1920x1005-Wintervention-24-25_Wild-Ride-1.png
END:VEVENT
END:VCALENDAR