BEGIN:VCALENDAR
VERSION:2.0
PRODID:-//Hoodoo Ski Area - ECPv6.13.2.1//NONSGML v1.0//EN
CALSCALE:GREGORIAN
METHOD:PUBLISH
X-ORIGINAL-URL:https://hoodoo.com
X-WR-CALDESC:Events for Hoodoo Ski Area
REFRESH-INTERVAL;VALUE=DURATION:PT1H
X-Robots-Tag:noindex
X-PUBLISHED-TTL:PT1H
BEGIN:VTIMEZONE
TZID:America/Los_Angeles
BEGIN:DAYLIGHT
TZOFFSETFROM:-0800
TZOFFSETTO:-0700
TZNAME:PDT
DTSTART:20240310T100000
END:DAYLIGHT
BEGIN:STANDARD
TZOFFSETFROM:-0700
TZOFFSETTO:-0800
TZNAME:PST
DTSTART:20241103T090000
END:STANDARD
END:VTIMEZONE
BEGIN:VEVENT
DTSTART;VALUE=DATE:20241025
DTEND;VALUE=DATE:20241027
DTSTAMP:20260421T025656
CREATED:20241017T071941Z
LAST-MODIFIED:20241017T071952Z
UID:9678-1729814400-1729987199@hoodoo.com
SUMMARY:Eugene Ski Swap
DESCRIPTION:Great prices on snow gear\, including skis (downhill\, cross-country\, tele\, AT)\, snowboards\, clothing\, snowshoes\, helmets. Both new and previously owned. \nDetails at eugeneskiswap.org
URL:https://hoodoo.com/event/eugene-ski-swap-2024/
LOCATION:Lane County Event Center\, 796 W 13th Ave\,\, Eugene\, OR\, 97402\, United States
ATTACH;FMTTYPE=image/jpeg:https://hoodoo.com/wp-content/uploads/2024/10/Eugene-Ski-Swap-2024.jpg
GEO:44.0441061;-123.1062856
X-APPLE-STRUCTURED-LOCATION;VALUE=URI;X-ADDRESS=Lane County Event Center 796 W 13th Ave Eugene OR 97402 United States;X-APPLE-RADIUS=500;X-TITLE=796 W 13th Ave\,:geo:-123.1062856,44.0441061
END:VEVENT
END:VCALENDAR