BEGIN:VCALENDAR
VERSION:2.0
PRODID:-//Hoodoo Ski Area - ECPv6.13.2.1//NONSGML v1.0//EN
CALSCALE:GREGORIAN
METHOD:PUBLISH
X-ORIGINAL-URL:https://hoodoo.com
X-WR-CALDESC:Events for Hoodoo Ski Area
REFRESH-INTERVAL;VALUE=DURATION:PT1H
X-Robots-Tag:noindex
X-PUBLISHED-TTL:PT1H
BEGIN:VTIMEZONE
TZID:America/Los_Angeles
BEGIN:DAYLIGHT
TZOFFSETFROM:-0800
TZOFFSETTO:-0700
TZNAME:PDT
DTSTART:20220313T100000
END:DAYLIGHT
BEGIN:STANDARD
TZOFFSETFROM:-0700
TZOFFSETTO:-0800
TZNAME:PST
DTSTART:20221106T090000
END:STANDARD
END:VTIMEZONE
BEGIN:VEVENT
DTSTART;TZID=America/Los_Angeles:20221104T193000
DTEND;TZID=America/Los_Angeles:20221104T213000
DTSTAMP:20260419T075642
CREATED:20221103T074905Z
LAST-MODIFIED:20221103T074905Z
UID:8255-1667590200-1667597400@hoodoo.com
SUMMARY:Warren Miller's Daybreaker - Arlene Schnitzer Concert Hall\, Portland
DESCRIPTION:  \nHow’s it going? Ask us again tomorrow\, because today’s answer will change soon enough. This is the world we live in\, where the ground shifts constantly beneath our feet and bearings are hard to come by. \nExcept … the mountains have seen this all before. And when you stand on top of one\, it’s awfully tough to make out whatever you left below. It’s even harder to feel the weight of the world when you’re flying through snow so deep\, it may as well be the sky. Stress can’t keep up; anxiety won’t do the bumps\, and frustration forgot a glove and had to go home. \nThis is where Warren Miller Entertainment’s 73rd annual ski and snowboard film takes place: on peaks that replace the mountains in your mind with ones that free your mind. Join Crazy Karl Fostvedt\, Michelle Parker\, Katie Burrell\, Hanna Beaman\, Daron Rahlves\, Ryland Bell\, Cam Fitzpatrick\, Connery Lundin and more on the hill\, and you can’t really have a bad day. \nBritish Columbia’s Monashees? Yes. The literal throne of the gods in Greece’s Olympus Mountains? Yep. Alaska? Twice. We hit Snowmass for the biggest party of the winter and surprise a Warren Miller superfan at the base of Snowbasin and take him skiing with Jonny Moseley and Marcus Caston. We follow one of Europe’s most legendary mountain guides\, rewrite the rules of adaptive backcountry riding\, and try to keep up with some of the most exciting young skiers and snowboarders on the planet. \nSo\, how’s it going? Now that you mention it\, thinking about winter kinda made our day.
URL:https://hoodoo.com/event/warren-millers-daybreaker-arlene-schnitzer-concert-hall-portland/
LOCATION:2021_12_14_HOODOO_LODGE_SOCIAL_VERTICAL (1 of 1)
END:VEVENT
END:VCALENDAR