BEGIN:VCALENDAR
VERSION:2.0
PRODID:-//Hoodoo Ski Area - ECPv6.13.2.1//NONSGML v1.0//EN
CALSCALE:GREGORIAN
METHOD:PUBLISH
X-ORIGINAL-URL:https://hoodoo.com
X-WR-CALDESC:Events for Hoodoo Ski Area
REFRESH-INTERVAL;VALUE=DURATION:PT1H
X-Robots-Tag:noindex
X-PUBLISHED-TTL:PT1H
BEGIN:VTIMEZONE
TZID:America/Los_Angeles
BEGIN:DAYLIGHT
TZOFFSETFROM:-0800
TZOFFSETTO:-0700
TZNAME:PDT
DTSTART:20220313T100000
END:DAYLIGHT
BEGIN:STANDARD
TZOFFSETFROM:-0700
TZOFFSETTO:-0800
TZNAME:PST
DTSTART:20221106T090000
END:STANDARD
END:VTIMEZONE
BEGIN:VEVENT
DTSTART;TZID=America/Los_Angeles:20220211T173000
DTEND;TZID=America/Los_Angeles:20220211T200000
DTSTAMP:20260421T194917
CREATED:20220211T012754Z
LAST-MODIFIED:20220211T012754Z
UID:8078-1644600600-1644609600@hoodoo.com
SUMMARY:The Galaxy Alien Band
DESCRIPTION:This Friday and Saturday\, it is your destiny to become one with The Force with the Galaxy Alien Band. If you’re a Star Wars fan who grew up tapping your feet to the sweet Bith sounds of Figrin D’an and the Modal Nodes\, book a transport now. You won’t want to miss it! \nNo\, this isn’t a Jedi mind trick… and no Galactic credits needed! This show is FREE for all ages and beings\, including padawans\, foundlings\, stormtroopers\, clones\, bounty hunters\, Gungans\, Ewoks\, Jawas\, Wookiees\, Rodians\, Twi’leks\, Togrutas\, Tuskens\, Trandoshans\, Mon Calamari\, Jedi\, Sith\, spice runners\, moisture farmers\, senators\, pilots\, rebels and scoundrels. \nBut sorry… your Droids will have to wait outside. \nSee you this Friday and Saturday at\nChalmun’s Spaceport Cantina… aka Hoodoo Ski Area in Central Oregon. And May the Force be with you… always!
URL:https://hoodoo.com/event/the-galaxy-alien-band-3/2022-02-11/
LOCATION:Hoodoo Ski Area\, 27400 Big Lake Rd\, Sisters\, OR\, 97759\, United States
ATTACH;FMTTYPE=image/jpeg:https://hoodoo.com/wp-content/uploads/2022/02/Cantina-band-planet-e1507261450814.jpg
GEO:44.408755;-121.871381
X-APPLE-STRUCTURED-LOCATION;VALUE=URI;X-ADDRESS=Hoodoo Ski Area 27400 Big Lake Rd Sisters OR 97759 United States;X-APPLE-RADIUS=500;X-TITLE=27400 Big Lake Rd:geo:-121.871381,44.408755
END:VEVENT
END:VCALENDAR