BEGIN:VCALENDAR
VERSION:2.0
PRODID:-//Hoodoo Ski Area - ECPv6.13.2.1//NONSGML v1.0//EN
CALSCALE:GREGORIAN
METHOD:PUBLISH
X-WR-CALNAME:Hoodoo Ski Area
X-ORIGINAL-URL:https://hoodoo.com
X-WR-CALDESC:Events for Hoodoo Ski Area
REFRESH-INTERVAL;VALUE=DURATION:PT1H
X-Robots-Tag:noindex
X-PUBLISHED-TTL:PT1H
BEGIN:VTIMEZONE
TZID:America/Los_Angeles
BEGIN:DAYLIGHT
TZOFFSETFROM:-0800
TZOFFSETTO:-0700
TZNAME:PDT
DTSTART:20190310T100000
END:DAYLIGHT
BEGIN:STANDARD
TZOFFSETFROM:-0700
TZOFFSETTO:-0800
TZNAME:PST
DTSTART:20191103T090000
END:STANDARD
END:VTIMEZONE
BEGIN:VEVENT
DTSTART;TZID=America/Los_Angeles:20191017T190000
DTEND;TZID=America/Los_Angeles:20191017T210000
DTSTAMP:20260422T090703
CREATED:20190911T001824Z
LAST-MODIFIED:20190911T001824Z
UID:5091-1571338800-1571346000@hoodoo.com
SUMMARY:Pray for Snow - Eugene
DESCRIPTION:It’s almost winter\, and that means it’s time once again to rev up Pray For Snow at Doc’s Pad in Eugene!
URL:https://hoodoo.com/event/pray-for-snow-eugene/2019-10-17/
LOCATION:Doc’s Pad\, 710 Willamette St\, Eugene\, OR\, 97401\, United States
ATTACH;FMTTYPE=image/jpeg:https://hoodoo.com/wp-content/uploads/2019/09/Pray-for-Snow-Eugene.jpg
END:VEVENT
END:VCALENDAR