BEGIN:VCALENDAR
VERSION:2.0
PRODID:-//Hoodoo Ski Area - ECPv6.13.2.1//NONSGML v1.0//EN
CALSCALE:GREGORIAN
METHOD:PUBLISH
X-ORIGINAL-URL:https://hoodoo.com
X-WR-CALDESC:Events for Hoodoo Ski Area
REFRESH-INTERVAL;VALUE=DURATION:PT1H
X-Robots-Tag:noindex
X-PUBLISHED-TTL:PT1H
BEGIN:VTIMEZONE
TZID:America/Los_Angeles
BEGIN:DAYLIGHT
TZOFFSETFROM:-0800
TZOFFSETTO:-0700
TZNAME:PDT
DTSTART:20190310T100000
END:DAYLIGHT
BEGIN:STANDARD
TZOFFSETFROM:-0700
TZOFFSETTO:-0800
TZNAME:PST
DTSTART:20191103T090000
END:STANDARD
END:VTIMEZONE
BEGIN:VEVENT
DTSTART;TZID=America/Los_Angeles:20191101T130000
DTEND;TZID=America/Los_Angeles:20191101T220000
DTSTAMP:20260421T172727
CREATED:20191030T222529Z
LAST-MODIFIED:20191030T222659Z
UID:5154-1572613200-1572645600@hoodoo.com
SUMMARY:Portland SkiFever & Snowboard Show
DESCRIPTION:Stop by the Hoodoo Ski Area booth at the Portland SkiFever & Snowboard Show on Nov. 1-3\, 2019\, at the Portland Expo Center. Hoodoo AnyCards will be on sale for only $199 and season passes will be available at pre-season discount prices. See you there!
URL:https://hoodoo.com/event/portland-skifever-2019/2019-11-01/
LOCATION:Portland Expo Center\, 2060 North Marine Drive\, Portland\, OR\, 97217\, United States
ATTACH;FMTTYPE=image/png:https://hoodoo.com/wp-content/uploads/2019/10/skiLogo-1-e1572474412767.png
GEO:45.6069802;-122.6896786
X-APPLE-STRUCTURED-LOCATION;VALUE=URI;X-ADDRESS=Portland Expo Center 2060 North Marine Drive Portland OR 97217 United States;X-APPLE-RADIUS=500;X-TITLE=2060 North Marine Drive:geo:-122.6896786,45.6069802
END:VEVENT
END:VCALENDAR