BEGIN:VCALENDAR
VERSION:2.0
PRODID:-//Hoodoo Ski Area - ECPv6.13.2.1//NONSGML v1.0//EN
CALSCALE:GREGORIAN
METHOD:PUBLISH
X-ORIGINAL-URL:https://hoodoo.com
X-WR-CALDESC:Events for Hoodoo Ski Area
REFRESH-INTERVAL;VALUE=DURATION:PT1H
X-Robots-Tag:noindex
X-PUBLISHED-TTL:PT1H
BEGIN:VTIMEZONE
TZID:America/Los_Angeles
BEGIN:DAYLIGHT
TZOFFSETFROM:-0800
TZOFFSETTO:-0700
TZNAME:PDT
DTSTART:20180311T100000
END:DAYLIGHT
BEGIN:STANDARD
TZOFFSETFROM:-0700
TZOFFSETTO:-0800
TZNAME:PST
DTSTART:20181104T090000
END:STANDARD
END:VTIMEZONE
BEGIN:VEVENT
DTSTART;TZID=America/Los_Angeles:20181207T090000
DTEND;TZID=America/Los_Angeles:20181207T160000
DTSTAMP:20260419T061524
CREATED:20181206T001310Z
LAST-MODIFIED:20181206T001310Z
UID:7220-1544173200-1544198400@hoodoo.com
SUMMARY:Open 9am - 4pm
DESCRIPTION:Grooming will be limited with the Manzanita\, Ed and Easy Rider lifts running 9 a.m. – 4 p.m. \nLift tickets will be only $40 (ages 13-64) and $31 (ages 8-12 and 65+). Lift tickets for kids ages 7 and under are always free at Hoodoo. \nThe Autobahn Tubing Park is closed Friday\, Dec. 7. and open 10 a.m. – 4 p.m. Saturday – Sunday (Dec. 8-9). Tubing passes will be just $5 because the tow won’t be running until more snow falls and you’ll have to walk up the hill.
URL:https://hoodoo.com/event/opening-day-2018-3/2018-12-07/
LOCATION:Hoodoo Ski Area\, 27400 Big Lake Rd\, Sisters\, OR\, 97759\, United States
GEO:44.408755;-121.871381
X-APPLE-STRUCTURED-LOCATION;VALUE=URI;X-ADDRESS=Hoodoo Ski Area 27400 Big Lake Rd Sisters OR 97759 United States;X-APPLE-RADIUS=500;X-TITLE=27400 Big Lake Rd:geo:-121.871381,44.408755
END:VEVENT
END:VCALENDAR