BEGIN:VCALENDAR
VERSION:2.0
PRODID:-//Hoodoo Ski Area - ECPv6.13.2.1//NONSGML v1.0//EN
CALSCALE:GREGORIAN
METHOD:PUBLISH
X-WR-CALNAME:Hoodoo Ski Area
X-ORIGINAL-URL:https://hoodoo.com
X-WR-CALDESC:Events for Hoodoo Ski Area
REFRESH-INTERVAL;VALUE=DURATION:PT1H
X-Robots-Tag:noindex
X-PUBLISHED-TTL:PT1H
BEGIN:VTIMEZONE
TZID:America/Los_Angeles
BEGIN:DAYLIGHT
TZOFFSETFROM:-0800
TZOFFSETTO:-0700
TZNAME:PDT
DTSTART:20230312T100000
END:DAYLIGHT
BEGIN:STANDARD
TZOFFSETFROM:-0700
TZOFFSETTO:-0800
TZNAME:PST
DTSTART:20231105T090000
END:STANDARD
END:VTIMEZONE
BEGIN:VEVENT
DTSTART;VALUE=DATE:20230104
DTEND;VALUE=DATE:20230105
DTSTAMP:20260425T085442
CREATED:20221213T090507Z
LAST-MODIFIED:20230318T083010Z
UID:8701-1672790400-1672876799@hoodoo.com
SUMMARY:Military Wednesday
DESCRIPTION:Hoodoo is proud to give back to our military by offering 2-for-1 lift tickets to current and former veterans each Wednesday with a valid military ID. Starts Jan. 4\, 2023.
URL:https://hoodoo.com/event/military-wednesday-4/2023-01-04/
LOCATION:Hoodoo Ski Area\, 27400 Big Lake Rd\, Sisters\, OR\, 97759\, United States
ATTACH;FMTTYPE=image/jpeg:https://hoodoo.com/wp-content/uploads/2021/12/military-flag-scaled.jpeg
GEO:44.408755;-121.871381
X-APPLE-STRUCTURED-LOCATION;VALUE=URI;X-ADDRESS=Hoodoo Ski Area 27400 Big Lake Rd Sisters OR 97759 United States;X-APPLE-RADIUS=500;X-TITLE=27400 Big Lake Rd:geo:-121.871381,44.408755
END:VEVENT
END:VCALENDAR