BEGIN:VCALENDAR
VERSION:2.0
PRODID:-//Hoodoo Ski Area - ECPv6.13.2.1//NONSGML v1.0//EN
CALSCALE:GREGORIAN
METHOD:PUBLISH
X-WR-CALNAME:Hoodoo Ski Area
X-ORIGINAL-URL:https://hoodoo.com
X-WR-CALDESC:Events for Hoodoo Ski Area
REFRESH-INTERVAL;VALUE=DURATION:PT1H
X-Robots-Tag:noindex
X-PUBLISHED-TTL:PT1H
BEGIN:VTIMEZONE
TZID:America/Los_Angeles
BEGIN:DAYLIGHT
TZOFFSETFROM:-0800
TZOFFSETTO:-0700
TZNAME:PDT
DTSTART:20200308T100000
END:DAYLIGHT
BEGIN:STANDARD
TZOFFSETFROM:-0700
TZOFFSETTO:-0800
TZNAME:PST
DTSTART:20201101T090000
END:STANDARD
END:VTIMEZONE
BEGIN:VEVENT
DTSTART;TZID=America/Los_Angeles:20200113T090000
DTEND;TZID=America/Los_Angeles:20200113T160000
DTSTAMP:20260425T165012
CREATED:20191206T004518Z
LAST-MODIFIED:20200106T085900Z
UID:5265-1578906000-1578931200@hoodoo.com
SUMMARY:Military Monday
DESCRIPTION:Hoodoo is proud to give back to our military by offering 2-FOR-1 lift tickets to current and former veterans each Monday with a valid military ID. \nHoodoo does not offer any discount ski tickets during Peak Pricing periods. Peak Pricing periods include Winter Break\, MLK Weekend\, Winter Carnival\, and Presidents’ Day Weekend.
URL:https://hoodoo.com/event/military-monday-2020/2020-01-13/
LOCATION:27400 Big Lake Rd\, Sisters\, OR\, 97759\, United States
ATTACH;FMTTYPE=image/png:https://hoodoo.com/wp-content/uploads/2018/09/hoodoo-ski-military-deals_jpg.png
END:VEVENT
END:VCALENDAR