BEGIN:VCALENDAR
VERSION:2.0
PRODID:-//Hoodoo Ski Area - ECPv6.13.2.1//NONSGML v1.0//EN
CALSCALE:GREGORIAN
METHOD:PUBLISH
X-ORIGINAL-URL:https://hoodoo.com
X-WR-CALDESC:Events for Hoodoo Ski Area
REFRESH-INTERVAL;VALUE=DURATION:PT1H
X-Robots-Tag:noindex
X-PUBLISHED-TTL:PT1H
BEGIN:VTIMEZONE
TZID:America/Los_Angeles
BEGIN:DAYLIGHT
TZOFFSETFROM:-0800
TZOFFSETTO:-0700
TZNAME:PDT
DTSTART:20240310T100000
END:DAYLIGHT
BEGIN:STANDARD
TZOFFSETFROM:-0700
TZOFFSETTO:-0800
TZNAME:PST
DTSTART:20241103T090000
END:STANDARD
END:VTIMEZONE
BEGIN:VEVENT
DTSTART;VALUE=DATE:20240428
DTEND;VALUE=DATE:20240429
DTSTAMP:20260422T190924
CREATED:20240107T042828Z
LAST-MODIFIED:20240107T042828Z
UID:9651-1714262400-1714348799@hoodoo.com
SUMMARY:CLOSED
DESCRIPTION:Hoodoo is closed today.
URL:https://hoodoo.com/event/closed-21/2024-04-28/
END:VEVENT
BEGIN:VEVENT
DTSTART;VALUE=DATE:20240426
DTEND;VALUE=DATE:20240427
DTSTAMP:20260422T190924
CREATED:20240107T042828Z
LAST-MODIFIED:20240107T042828Z
UID:9650-1714089600-1714175999@hoodoo.com
SUMMARY:CLOSED
DESCRIPTION:Hoodoo is closed today.
URL:https://hoodoo.com/event/closed-21/2024-04-26/
END:VEVENT
BEGIN:VEVENT
DTSTART;VALUE=DATE:20240425
DTEND;VALUE=DATE:20240426
DTSTAMP:20260422T190924
CREATED:20240107T042828Z
LAST-MODIFIED:20240422T045121Z
UID:9587-1714003200-1714089599@hoodoo.com
SUMMARY:CLOSED
DESCRIPTION:Hoodoo is closed today.
URL:https://hoodoo.com/event/closed-21/2024-04-25/
END:VEVENT
BEGIN:VEVENT
DTSTART;VALUE=DATE:20240424
DTEND;VALUE=DATE:20240425
DTSTAMP:20260422T190924
CREATED:20240107T042828Z
LAST-MODIFIED:20240422T045121Z
UID:9586-1713916800-1714003199@hoodoo.com
SUMMARY:CLOSED
DESCRIPTION:Hoodoo is closed today.
URL:https://hoodoo.com/event/closed-21/2024-04-24/
END:VEVENT
BEGIN:VEVENT
DTSTART;VALUE=DATE:20240423
DTEND;VALUE=DATE:20240424
DTSTAMP:20260422T190924
CREATED:20240107T042828Z
LAST-MODIFIED:20240422T045117Z
UID:9585-1713830400-1713916799@hoodoo.com
SUMMARY:CLOSED
DESCRIPTION:Hoodoo is closed today.
URL:https://hoodoo.com/event/closed-21/2024-04-23/
END:VEVENT
BEGIN:VEVENT
DTSTART;VALUE=DATE:20240422
DTEND;VALUE=DATE:20240423
DTSTAMP:20260422T190924
CREATED:20240107T042828Z
LAST-MODIFIED:20240422T045117Z
UID:9584-1713744000-1713830399@hoodoo.com
SUMMARY:CLOSED
DESCRIPTION:Hoodoo is closed today.
URL:https://hoodoo.com/event/closed-21/2024-04-22/
END:VEVENT
BEGIN:VEVENT
DTSTART;VALUE=DATE:20240108
DTEND;VALUE=DATE:20240109
DTSTAMP:20260422T190924
CREATED:20240107T042828Z
LAST-MODIFIED:20240422T045101Z
UID:9410-1704672000-1704758399@hoodoo.com
SUMMARY:CLOSED
DESCRIPTION:Hoodoo is closed today.
URL:https://hoodoo.com/event/closed-21/2024-01-08/
END:VEVENT
END:VCALENDAR